BEGIN:VCALENDAR
VERSION:2.0
PRODID:-//eventon.com NONSGML v1.0//EN
BEGIN:VEVENT
UID:69ecb8f595a20
DTSTAMP:20260425T145205
DTSTART:20250710T190000Z
DTEND:20250710T220000Z
TZID:Etc/Greenwich
LOCATION:
SUMMARY:Atelier de chant intuitif
DESCRIPTION: Jeudi 10 juillet 2025 : Atelier de chant intuitif : Maïck Cochard (professeur de chant) &#8211;  » Avec ma voix  »  &#8211; 19h00 &#8211; sur inscription\nhttps://www.museeducheval.ch/events/atelier-de-chant-intuitif-8/
URL:https://www.museeducheval.ch/events/atelier-de-chant-intuitif-8/
END:VEVENT
END:VCALENDAR