BEGIN:VCALENDAR
VERSION:2.0
PRODID:-//eventon.com NONSGML v1.0//EN
BEGIN:VEVENT
UID:69ebf31bac178
DTSTAMP:20260425T004755
DTSTART:20250705T140000Z
DTEND:20250705T160000Z
TZID:Etc/Greenwich
LOCATION:
SUMMARY:Atelier créatif Junior : Tania Péria : " Collages "
DESCRIPTION: Samedi 5 juillet 2025 : Atelier créatif Junior : Tania Péria :  » Collages  » 14h00 à 15h30 &#8211; sur inscription\nhttps://www.museeducheval.ch/events/atelier-creatif-junior-tania-peria-collages/
URL:https://www.museeducheval.ch/events/atelier-creatif-junior-tania-peria-collages/
END:VEVENT
END:VCALENDAR