BEGIN:VCALENDAR
VERSION:2.0
PRODID:-//eventon.com NONSGML v1.0//EN
BEGIN:VEVENT
UID:69ebdda352361
DTSTAMP:20260424T231619
DTSTART:20250702T130000Z
DTEND:20250702T150000Z
TZID:Etc/Greenwich
LOCATION:
SUMMARY:Atelier pédagogique
DESCRIPTION: Mercredi 2 juillet 2025 : Passeport Vacances : Orbe et environs : Atelier pédagogique  » Le maréchal Ferrant » projection et rencontre avec les chevaux  &#8211; 13h30\nhttps://www.museeducheval.ch/events/atelier-pedagogique/
URL:https://www.museeducheval.ch/events/atelier-pedagogique/
END:VEVENT
END:VCALENDAR