BEGIN:VCALENDAR
VERSION:2.0
PRODID:-//eventon.com NONSGML v1.0//EN
BEGIN:VEVENT
UID:69ebc2891abae
DTSTAMP:20260424T212041
DTSTART:20250628T160000Z
DTEND:20250628T190000Z
TZID:Etc/Greenwich
LOCATION:
SUMMARY:Conférence : Bernard Groberty - Photographe - "Nature"
DESCRIPTION: Samedi 28 juin 2025 : Conférence : Bernard Groberty &#8211; Photographe &#8211; « Nature » de 16h00 à 19h00\nhttps://www.museeducheval.ch/events/conference-bernard-groberty-photographe-nature/
URL:https://www.museeducheval.ch/events/conference-bernard-groberty-photographe-nature/
END:VEVENT
END:VCALENDAR