BEGIN:VCALENDAR
VERSION:2.0
PRODID:-//eventon.com NONSGML v1.0//EN
BEGIN:VEVENT
UID:69eb91ee918ba
DTSTAMP:20260424T175318
DTSTART:20260614T090000Z
DTEND:20260614T220000Z
TZID:Etc/Greenwich
LOCATION:
SUMMARY:Fête du Cheval
DESCRIPTION: Dimanche 14 juin 2026 : Fête du Cheval  &#8211; spectacles équestres &#8211; ateliers &#8211; restauration &#8211; entrée libre\nhttps://www.museeducheval.ch/events/fete-du-cheval/
URL:https://www.museeducheval.ch/events/fete-du-cheval/
END:VEVENT
END:VCALENDAR