BEGIN:VCALENDAR
VERSION:2.0
PRODID:-//eventon.com NONSGML v1.0//EN
BEGIN:VEVENT
UID:69eb7b16d9ed6
DTSTAMP:20260424T161550
DTSTART:20250612T190000Z
DTEND:20250612T220000Z
TZID:Etc/Greenwich
LOCATION:
SUMMARY:Atelier de chant intuitif
DESCRIPTION: Jeudi 12 juin 2025 : Atelier de chant intuitif : Maïck Cochard (professeur de chant) &#8211;  » Avec ma voix  »  &#8211; 19h00 &#8211; sur inscription\nhttps://www.museeducheval.ch/events/atelier-de-chant-intuitif-6/
URL:https://www.museeducheval.ch/events/atelier-de-chant-intuitif-6/
END:VEVENT
END:VCALENDAR