BEGIN:VCALENDAR
VERSION:2.0
PRODID:-//eventon.com NONSGML v1.0//EN
BEGIN:VEVENT
UID:69eb49a693d57
DTSTAMP:20260424T124454
DTSTART:20250607T140000Z
DTEND:20250607T160000Z
TZID:Etc/Greenwich
LOCATION:
SUMMARY:Atelier créatif Junior : Tania Péria : " Mon cheval en carton recyclé "
DESCRIPTION: Samedi 7 juin 2025 : Atelier créatif Junior : Tania Péria :  » Mon cheval en carton recyclé  » 14h00 à 15h30 &#8211; sur inscription\nhttps://www.museeducheval.ch/events/atelier-creatif-junior-tania-peria-mon-cheval-en-carton-recycle/
URL:https://www.museeducheval.ch/events/atelier-creatif-junior-tania-peria-mon-cheval-en-carton-recycle/
END:VEVENT
END:VCALENDAR