BEGIN:VCALENDAR
VERSION:2.0
PRODID:-//eventon.com NONSGML v1.0//EN
BEGIN:VEVENT
UID:69e5e50a45bbd
DTSTAMP:20260420T103418
DTSTART:20250607T150000Z
DTEND:20250607T170000Z
TZID:Etc/Greenwich
LOCATION:
SUMMARY:Vernissage : Bernard Groberty - Photographe - "Nature"
DESCRIPTION: Samedi 7 juin 2025 : Vernissage : Bernard Groberty &#8211; Photographe &#8211; « Nature » de 15h00 à 17h00\nhttps://www.museeducheval.ch/events/vernissage-bernard-groberty-photographe-nature/
URL:https://www.museeducheval.ch/events/vernissage-bernard-groberty-photographe-nature/
END:VEVENT
END:VCALENDAR