BEGIN:VCALENDAR
VERSION:2.0
PRODID:-//eventon.com NONSGML v1.0//EN
BEGIN:VEVENT
UID:69e64bc44fc45
DTSTAMP:20260420T175236
DTSTART:20250531T140000Z
DTEND:20250531T180000Z
TZID:Etc/Greenwich
LOCATION:
SUMMARY:Décrochage : Aurore Martin : "L'art des animaux"
DESCRIPTION: Samedi 31 mai 2025 : Décrochage : Aurore Martin : « L&rsquo;art des animaux » de 14h00 à 18h00\nhttps://www.museeducheval.ch/events/decrochage-aurore-martin-lart-des-animaux/
URL:https://www.museeducheval.ch/events/decrochage-aurore-martin-lart-des-animaux/
END:VEVENT
END:VCALENDAR