BEGIN:VCALENDAR
VERSION:2.0
PRODID:-//eventon.com NONSGML v1.0//EN
BEGIN:VEVENT
UID:69e623558dc59
DTSTAMP:20260420T150005
DTSTART:20250522T190000Z
DTEND:20250522T220000Z
TZID:Etc/Greenwich
LOCATION:
SUMMARY:Atelier de chant intuitif
DESCRIPTION: Jeudi 22 mai 2025 : Atelier de chant intuitif : Maïck Cochard (professeur de chant) &#8211;  » Avec ma voix  »  &#8211; 19h00 &#8211; sur inscription\nhttps://www.museeducheval.ch/events/atelier-de-chant-intuitif-5/
URL:https://www.museeducheval.ch/events/atelier-de-chant-intuitif-5/
END:VEVENT
END:VCALENDAR