BEGIN:VCALENDAR
VERSION:2.0
PRODID:-//eventon.com NONSGML v1.0//EN
BEGIN:VEVENT
UID:69e6108ed6272
DTSTAMP:20260420T133958
DTSTART:20250517T140000Z
DTEND:20250517T180000Z
TZID:Etc/Greenwich
LOCATION:
SUMMARY:Vernissage : Aurore Martin : "L'art des animaux"
DESCRIPTION: Samedi 17 mai 2025 : Vernissage : Aurore Martin : « L&rsquo;art des animaux » de 14h00 à 18h00\nhttps://www.museeducheval.ch/events/vernissage-aurore-martin-lart-des-animaux/
URL:https://www.museeducheval.ch/events/vernissage-aurore-martin-lart-des-animaux/
END:VEVENT
END:VCALENDAR