BEGIN:VCALENDAR
VERSION:2.0
PRODID:-//eventon.com NONSGML v1.0//EN
BEGIN:VEVENT
UID:69e5c157a9f22
DTSTAMP:20260420T080159
DTSTART:20250329T140000Z
DTEND:20250329T180000Z
TZID:Etc/Greenwich
LOCATION:
SUMMARY:Vernissage : Henry Althaus - "ab geht's"\,  c'est parti"  de 14h00 à 18h00 
DESCRIPTION: Samedi 29 mars 2025 : Vernissage : Henry Althaus &#8211; « ab gent&rsquo;s »\,  c&rsquo;est parti »  de 14h00 à 18h00\nhttps://www.museeducheval.ch/events/vernissage-henry-althaus-ab-gents-cest-parti-de-14h00-a-18h00/
URL:https://www.museeducheval.ch/events/vernissage-henry-althaus-ab-gents-cest-parti-de-14h00-a-18h00/
END:VEVENT
END:VCALENDAR