BEGIN:VCALENDAR
VERSION:2.0
PRODID:-//eventon.com NONSGML v1.0//EN
BEGIN:VEVENT
UID:69e5e9c0371af
DTSTAMP:20260420T105424
DTSTART:20250329T090000Z
DTEND:20250426T220000Z
TZID:Etc/Greenwich
LOCATION:
SUMMARY:Exposition artistique : Henry Althaus - "ab geht's"\,  c'est parti"  ( du 29.03 au 26.04)
DESCRIPTION: Exposition artistique : Henry Althaus &#8211; « ab gent&rsquo;s »\,  c&rsquo;est parti »  ( du 29.03 au 26.04)  &#8211; présence de l&rsquo;artiste les samedis : 29.03 &#8211; 5.04 &#8211; 12.04- 19.04 &#8211; 26.04)\nhttps://www.museeducheval.ch/events/exposition-artistique-henry-althaus-ab-gents-cest-parti-du-29-03-au-26-04/
URL:https://www.museeducheval.ch/events/exposition-artistique-henry-althaus-ab-gents-cest-parti-du-29-03-au-26-04/
END:VEVENT
END:VCALENDAR